BEGIN:VCALENDAR
VERSION:2.0
PRODID:-//eventon.com NONSGML v1.0//EN
CALSCALE:GREGORIAN
METHOD:PUBLISH
BEGIN:VEVENT
UID:69e9f5238e17f
DTSTAMP:20260423T103203Z
DTSTART:20260201T000000Z
DTEND:20260301T000000Z
LOCATION:Het Archief Robert Fruinstraat 52\,  3021 XE Rotterdam
SUMMARY:Where is your humanity
DESCRIPTION:A Palestinian boy walks past tents during a break in the rain i
 n Jabalya\,  North Gaza. Photo by OCHA Where is your humanity? is een multi
 disciplinaire tentoonstelling met installaties\,  fotografie\,  schilderkun
 st\,  sculptuur\,  video\,  geluid en poëzie. De werken maken verlies en v
 ernietiging tastbaar\,  maar tonen ook verzet\,  overleving en veerkracht.[
 ..]\nhttps://dutilhhuis.nl/events/where-is-your-humanity/
URL:https://dutilhhuis.nl/events/where-is-your-humanity/
END:VEVENT
END:VCALENDAR