BEGIN:VCALENDAR
VERSION:2.0
PRODID:-//eventon.com NONSGML v1.0//EN
CALSCALE:GREGORIAN
METHOD:PUBLISH
BEGIN:VEVENT
UID:69e8ddcae70de
DTSTAMP:20260422T144010Z
DTSTART:20260123T000000Z
DTEND:20260510T000000Z
LOCATION:Las Palmas Wilhelminakade 332 3072AR Rotterdam
SUMMARY:Mysterieuze kunstenaar Banksy nu ook in Rotterdam
DESCRIPTION:© Banksy | There is always hope at Brussels 2019 exposition &#
 8220;The World of Banksy&#8221; by Miguel Discart\,  CC BY-SA 2.0\,  via Wi
 kimedia Commons © Banksy 2015 | Banksy muurschildering in&nbsp;Bethlehem b
 ij de apartheidsmuur\, &nbsp;West Bank\,  Palestina | GualdimG\,  CC BY-SA 
 4.0\,  via Wikimedia Commons Straatkunstenaar Banksy strijkt neer in Rotter
 dam.[..]\nhttps://dutilhhuis.nl/events/mysterieuze-kunstenaar-banksy-nu-ook
 -in-rotterdam/
URL:https://dutilhhuis.nl/events/mysterieuze-kunstenaar-banksy-nu-ook-in-rotterdam/
END:VEVENT
END:VCALENDAR