BEGIN:VCALENDAR
VERSION:2.0
PRODID:-//eventon.com NONSGML v1.0//EN
CALSCALE:GREGORIAN
METHOD:PUBLISH
BEGIN:VEVENT
UID:69e9f3521080f
DTSTAMP:20260423T102418Z
DTSTART:20251206T120000Z
DTEND:20251206T160000Z
LOCATION:BOIJMANS DEPOT Museumpark 24
SUMMARY:Museum Boijmans Van Beuningen gaat bouwen aan de toekomstâ€¯ en trakteert 6 december op warme chocolademelk en verse oliebollen
DESCRIPTION:Rotterdam bedankt! Â© Museu Boijmans van Beuningen 06dec2025 De
 â€¯Rotterdamse gemeenteraad heeft&nbsp;op donderdagavond 4 december met een
  overgrote meerderheid ingestemd&nbsp;metâ€¯het Definitief Ontwerp (DO) en 
 het uitvoeringskrediet voor de&nbsp;renovatie en&nbsp;vernieuwing&nbsp;vanâ
 €¯Museumâ€¯Boijmansâ€¯Van Beuningen. Hierdoor begint in 2026 een nieuw hoof
 dstuk voor het museum: de bouw van een plek waar een topcollectie en verhal
 en samenkomen\, [..]\nhttps://dutilhhuis.nl/events/museum-boijmans-van-beun
 ingen-gaat-bouwen-aan-de-toekomst-en-trakteert-6-december-op-warme-chocolad
 emelk-en-verse-oliebollen/
URL:https://dutilhhuis.nl/events/museum-boijmans-van-beuningen-gaat-bouwen-aan-de-toekomst-en-trakteert-6-december-op-warme-chocolademelk-en-verse-oliebollen/
END:VEVENT
END:VCALENDAR