BEGIN:VCALENDAR
VERSION:2.0
PRODID:-//eventon.com NONSGML v1.0//EN
CALSCALE:GREGORIAN
METHOD:PUBLISH
BEGIN:VEVENT
UID:69e8ae225dc69
DTSTAMP:20260422T111650Z
DTSTART:20251025T000000Z
DTEND:20260531T000000Z
LOCATION:FOTOMUSEUM DEN HAAG Stadhouderslaan 43
SUMMARY:Fotomuseum Den Haag: 80 jarig bestaan UNESCO
DESCRIPTION:25 okt — 31 mei 2026 © Fotograaf Carla van de Puttelaar | UN
 ESCOFotomuseum Den Haag Ter ere van het tachtigjarig bestaan van UNESCO sla
 an de Nederlandse UNESCO Commissie en Fotomuseum Den Haag de handen ineen o
 m vrouwen uit te lichten die het verschil maken. Van molenaarsvrouw tot hoo
 gleraar\,  ieder[..]\nhttps://dutilhhuis.nl/events/80-jarig-bestaan-unesco/
URL:https://dutilhhuis.nl/events/80-jarig-bestaan-unesco/
END:VEVENT
END:VCALENDAR