BEGIN:VCALENDAR
VERSION:2.0
PRODID:-//eventon.com NONSGML v1.0//EN
CALSCALE:GREGORIAN
METHOD:PUBLISH
BEGIN:VEVENT
UID:69e9e17d3a964
DTSTAMP:20260423T090813Z
DTSTART:20250927T000000Z
DTEND:20260125T000000Z
LOCATION:Kunstmuseum Den Haag Stadhouderslaan 41
SUMMARY:Kunstmuseum Den Haag: Titanic & Fashion | The Last Dance
DESCRIPTION:27 september 2025 &#8211; 25 januari2026 Modeprent\,  Reiskostu
 um voor aan boord\,  in La Femme Chic\,  1912\,  © Kunstmuseum Den Haag Ku
 nstmuseum Den Haag presenteert vanaf 27 september&nbsp;TITANIC &amp; FASHIO
 N – The Last Dance&nbsp;– samengesteld door het museum zelf. Met origin
 ele kostuums uit de gelijknamige\,  iconische film uit 1997\,  en niet[..]\
 nhttps://dutilhhuis.nl/events/kunstmuseum-den-haag-titanic-fashion-the-last
 -dance-2/
URL:https://dutilhhuis.nl/events/kunstmuseum-den-haag-titanic-fashion-the-last-dance-2/
END:VEVENT
END:VCALENDAR