BEGIN:VCALENDAR
VERSION:2.0
PRODID:-//eventon.com NONSGML v1.0//EN
CALSCALE:GREGORIAN
METHOD:PUBLISH
BEGIN:VEVENT
UID:69e9f7c8ef5d9
DTSTAMP:20260423T104320Z
DTSTART:20251213T100000Z
DTEND:20251213T110000Z
LOCATION:KUNSTHAL Westzeedijk 341
SUMMARY:Kunsthal: Artist Talk David Shrigley
DESCRIPTION:David Shrigley. Foto: Pål Hansen | Kunsthal 13 december 2025 t
 /m 3 mei 2026 Kom op zaterdag 13 december naar de Artist Talk met de gereno
 mmeerde kunstenaar David Shrigley (1968). Met zijn droogkomische tekeningen
 \,  absurdistische installaties en scherpe observaties geeft hij een humori
 stische én kritische kijk op het leven en[..]\nhttps://dutilhhuis.nl/event
 s/kunsthal-artist-talk-david-shrigley/
URL:https://dutilhhuis.nl/events/kunsthal-artist-talk-david-shrigley/
END:VEVENT
END:VCALENDAR