BEGIN:VCALENDAR
VERSION:2.0
PRODID:-//eventon.com NONSGML v1.0//EN
CALSCALE:GREGORIAN
METHOD:PUBLISH
BEGIN:VEVENT
UID:69e9f48e1d7df
DTSTAMP:20260423T102934Z
DTSTART:20250829T000000Z
DTEND:20250831T120000Z
LOCATION:
SUMMARY:Jazzfestival Hillegersberg
DESCRIPTION:A small local regional jazz festival and recreational activitie
 s event organised by the Facet Hillegersberg restaurant and local shops and
  organisations in the area\,  that is located in the Rotterdammer neighbour
 hood of Oud-Hillegersberg\,  HS. Jazzfestival Hillegersberg (Facetjazz)\,  
 Hillegersberg\,  Rotterdam (2022) 60 by Donald Trung Quoc Don (Chữ Hán: 
 徵國單) &#8211;[..]\nhttps://dutilhhuis.nl/events/jazzfestival-hillegers
 berg/
URL:https://dutilhhuis.nl/events/jazzfestival-hillegersberg/
END:VEVENT
END:VCALENDAR