BEGIN:VCALENDAR
VERSION:2.0
PRODID:-//eventon.com NONSGML v1.0//EN
CALSCALE:GREGORIAN
METHOD:PUBLISH
BEGIN:VEVENT
UID:69e9f62f22798
DTSTAMP:20260423T103631Z
DTSTART:20251120T180000Z
DTEND:20251120T200000Z
LOCATION:
SUMMARY:Gratis collegereeks over vreemdelingendetentie aan de EUR 20 | 27 NOV 4 DEC 11 DEC
DESCRIPTION:De colleges zijn gratis toegankelijk en kunnen ook afzonderlijk
  worden bijgewoond. De Erasmus Universiteit Rotterdam nodigt studenten en a
 ndere geïnteresseerden van harte uit voor de collegereeks over vreemdeling
 endetentie aan de Erasmus Universiteit Rotterdam. Samen met Here to Support
  en Meldpunt Vreemdelingendetentie wordt er een collegereeks georganiseerd 
 rondom vreemdelingendetentie\,  het migratierecht[..]\nhttps://dutilhhuis.n
 l/events/gratis-collegereeks-over-vreemdelingendetentie-aan-de-eur/
URL:https://dutilhhuis.nl/events/gratis-collegereeks-over-vreemdelingendetentie-aan-de-eur/
END:VEVENT
END:VCALENDAR