BEGIN:VCALENDAR
VERSION:2.0
PRODID:-//eventon.com NONSGML v1.0//EN
CALSCALE:GREGORIAN
METHOD:PUBLISH
BEGIN:VEVENT
UID:69e9f57a6c256
DTSTAMP:20260423T103330Z
DTSTART:20250514T160000Z
DTEND:20250514T000000Z
LOCATION:
SUMMARY:Fenix is het nieuwe kunstmuseum over migratie in Rotterdam
DESCRIPTION:Beleef de openingsshow en ontdek Fenix gratis Op donderdag 15 m
 ei opent Hare Majesteit Koningin Máxima Fenix. Omar Victor Diop Diaspora 2
 014&#8212;2015 Collection Fenix Fenix is het nieuwe kunstmuseum over migrat
 ie in Rotterdam. Je bent van harte welkom vanaf 16 mei 2025. Verhalen die g
 renzen overstijgen In&nbsp;Alle Richtingen&nbsp;ontdek je verhalen[..]\nhtt
 ps://dutilhhuis.nl/events/fenix-is-het-nieuwe-kunstmuseum-over-migratie-in-
 rotterdam/
URL:https://dutilhhuis.nl/events/fenix-is-het-nieuwe-kunstmuseum-over-migratie-in-rotterdam/
END:VEVENT
END:VCALENDAR